BEGIN:VCALENDAR
VERSION:2.0
PRODID:-//lhhc.org//NONSGML kigkonsult.se iCalcreator 2.30.10//
CALSCALE:GREGORIAN
METHOD:PUBLISH
UID:9668376c-8dfe-4c90-99ee-bc47f950be60
X-WR-CALDESC:Hit the road and celebrate America’s love affair with the auto
 mobile at the Great American Road Trip Celebration! Enjoy a day filled wit
 h classic cars\, live music\, food vendors\, family-friendly activities\, 
 and plenty of roadside nostalgia at the Lincoln Highway Experience. Whethe
 r you're a car enthusiast or just looking for a fun summer outing\, it’s t
 he perfect way to experience the spirit of the open road.
X-WR-RELCALID:7a0355b550b7fd411c2da4a444dcce9a
X-WR-TIMEZONE:America/New_York
BEGIN:VTIMEZONE
TZID:America/New_York
BEGIN:STANDARD
TZNAME:EST
DTSTART:20251102T020000
TZOFFSETFROM:-0400
TZOFFSETTO:-0500
RDATE:20261101T020000
RDATE:20271107T020000
END:STANDARD
BEGIN:DAYLIGHT
TZNAME:EDT
DTSTART:20260308T020000
TZOFFSETFROM:-0500
TZOFFSETTO:-0400
RDATE:20270314T020000
END:DAYLIGHT
END:VTIMEZONE
BEGIN:VEVENT
UID:5047b176-1f1b-4d3e-b8df-735dccff3c71
DTSTAMP:20260421T080946Z
DESCRIPTION:Hit the road and celebrate America’s love affair with the autom
 obile at the Great American Road Trip Celebration! Enjoy a day filled with
  classic cars\, live music\, food vendors\, family-friendly activities\, a
 nd plenty of roadside nostalgia at the Lincoln Highway Experience. Whether
  you're a car enthusiast or just looking for a fun summer outing\, it’s th
 e perfect way to experience the spirit of the open road.
DTSTART;TZID=America/New_York:20260620T110000
DTEND;TZID=America/New_York:20260620T160000
LOCATION:3435 State Route 30 East \, Latrobe\, PA 15650 US
SUMMARY:Great American Road Trip Celebration
END:VEVENT
END:VCALENDAR
