BEGIN:VCALENDAR
VERSION:2.0
PRODID:-//lhhc.org//NONSGML kigkonsult.se iCalcreator 2.30.10//
CALSCALE:GREGORIAN
METHOD:PUBLISH
UID:0c61a535-7cdb-4a55-a7fd-41e5bdcb3f46
X-WR-CALDESC:Explore six Ligonier Valley museums including Compass Inn Muse
 um\, Fort Ligonier\, Ligonier Valley Rail Road Museum\, Lincoln Highway Ex
 perience\, Antiochian Heritage Museum\, and the Southern Alleghenies Museu
 m of Art for FREE!\n\nFrom extraordinary art and rare artifacts to transpo
 rtation history including wagons\, trains\, and cars\, these six museums h
 ave planned a fun day of activities\, demonstrations\, and tours both insi
 de and out for participants of all ages. Begin Free Museum Day at the muse
 um of your choice.\n
X-WR-RELCALID:66ba2d289d70f048132726e64e608101
X-WR-TIMEZONE:America/New_York
BEGIN:VTIMEZONE
TZID:America/New_York
BEGIN:STANDARD
TZNAME:EST
DTSTART:20241103T020000
TZOFFSETFROM:-0400
TZOFFSETTO:-0500
RDATE:20251102T020000
RDATE:20261101T020000
END:STANDARD
BEGIN:DAYLIGHT
TZNAME:EDT
DTSTART:20250309T020000
TZOFFSETFROM:-0500
TZOFFSETTO:-0400
RDATE:20260308T020000
END:DAYLIGHT
END:VTIMEZONE
BEGIN:VEVENT
UID:5e0b2a17-f1d2-462a-9067-f9318967feaa
DTSTAMP:20260423T193857Z
DESCRIPTION:Explore six Ligonier Valley museums including Compass Inn Museu
 m\, Fort Ligonier\, Ligonier Valley Rail Road Museum\, Lincoln Highway Exp
 erience\, Antiochian Heritage Museum\, and the Southern Alleghenies Museum
  of Art for FREE!\n\nFrom extraordinary art and rare artifacts to transpor
 tation history including wagons\, trains\, and cars\, these six museums ha
 ve planned a fun day of activities\, demonstrations\, and tours both insid
 e and out for participants of all ages. Begin Free Museum Day at the museu
 m of your choice.\n
DTSTART;TZID=America/New_York:20250504T100000
DTEND;TZID=America/New_York:20250504T160000
LOCATION:3435 State Route 30 East\, Latrobe\, PA 15650 US
SUMMARY:Free Museum Day 2025
END:VEVENT
END:VCALENDAR
