BEGIN:VCALENDAR
VERSION:2.0
PRODID:-//lhhc.org//NONSGML kigkonsult.se iCalcreator 2.30.10//
CALSCALE:GREGORIAN
METHOD:PUBLISH
UID:2ddcb428-a847-42dd-9f6b-f3ce532e2972
X-WR-CALDESC:Join us at the Lincoln Highway Experience on Saturday\, Februa
 ry 12 at 1 p.m. for the first Lincoln Highway Talk of 2022! Saint Vincent 
 College's Fr. Brian Boosel will be presenting his talk\, 'Good Neighbors: 
 Benedictine Monks Along the Lincoln Highway in Pennsylvania\,' about how t
 he history of the Lincoln Highway is interwoven with that of Saint Vincent
  Archabbey and Saint Vincent College.\n\nCost: $5 admission per person. No
  reservation required. \n\nCoffee & cookies will be provided for a suggest
 ed donation of $1.\n\nDue to the ongoing COVID-19 pandemic and Saint Vince
 nt Archabbey’s requirements for Fr. Brian and their other monastic communi
 ty members\, we are requiring all attendees to wear masks to this talk and
  practice social distancing as much as possible. Thank you for your unders
 tanding.\n\nAbout Father Brian Boosel:\n\nFather Brian Boosel\, OSB\, PhD.
 \, is an Assistant Professor of History at Saint Vincent College in Latrob
 e\, PA. He has a Master of Divinity from Saint Vincent Seminary\, a Master
  of Arts in European History from Slippery Rock University\, and earned hi
 s Doctor of Philosophy in Early Modern European History at the Catholic Un
 iversity of America. His focus in history is France and England from the R
 enaissance and reformation periods through the Victorian age. Father Brian
  is also interested in the local history of Saint Vincent and its neighbor
 s. \n
X-WR-RELCALID:1715981fe5a79ef6f195d5e1bace9cd5
X-WR-TIMEZONE:America/New_York
BEGIN:VTIMEZONE
TZID:America/New_York
BEGIN:STANDARD
TZNAME:EST
DTSTART:20211107T020000
TZOFFSETFROM:-0400
TZOFFSETTO:-0500
RDATE:20221106T020000
END:STANDARD
BEGIN:DAYLIGHT
TZNAME:EDT
DTSTART:20210314T020000
TZOFFSETFROM:-0500
TZOFFSETTO:-0400
RDATE:20220313T020000
RDATE:20230312T020000
END:DAYLIGHT
END:VTIMEZONE
BEGIN:VEVENT
UID:c774af5e-6965-4652-9d31-da2666eef555
DTSTAMP:20260422T212658Z
DESCRIPTION:Join us at the Lincoln Highway Experience on Saturday\, Februar
 y 12 at 1 p.m. for the first Lincoln Highway Talk of 2022! Saint Vincent C
 ollege's Fr. Brian Boosel will be presenting his talk\, 'Good Neighbors: B
 enedictine Monks Along the Lincoln Highway in Pennsylvania\,' about how th
 e history of the Lincoln Highway is interwoven with that of Saint Vincent 
 Archabbey and Saint Vincent College.\n\nCost: $5 admission per person. No 
 reservation required. \n\nCoffee & cookies will be provided for a suggeste
 d donation of $1.\n\nDue to the ongoing COVID-19 pandemic and Saint Vincen
 t Archabbey’s requirements for Fr. Brian and their other monastic communit
 y members\, we are requiring all attendees to wear masks to this talk and 
 practice social distancing as much as possible. Thank you for your underst
 anding.\n\nAbout Father Brian Boosel:\n\nFather Brian Boosel\, OSB\, PhD.\
 , is an Assistant Professor of History at Saint Vincent College in Latrobe
 \, PA. He has a Master of Divinity from Saint Vincent Seminary\, a Master 
 of Arts in European History from Slippery Rock University\, and earned his
  Doctor of Philosophy in Early Modern European History at the Catholic Uni
 versity of America. His focus in history is France and England from the Re
 naissance and reformation periods through the Victorian age. Father Brian 
 is also interested in the local history of Saint Vincent and its neighbors
 . \n
DTSTART;TZID=America/New_York:20220212T130000
DTEND;TZID=America/New_York:20220212T150000
LOCATION:3435 State Route 30 E\, Latrobe\, PA 15650 US
SUMMARY:Lincoln Highway Talk - 'Benedictine Monks Along the Lincoln Highway
 '
END:VEVENT
END:VCALENDAR
