BEGIN:VCALENDAR
VERSION:2.0
PRODID:-//lhhc.org//NONSGML kigkonsult.se iCalcreator 2.30.10//
CALSCALE:GREGORIAN
METHOD:PUBLISH
UID:5d43958c-2cfa-41fe-aa66-2d045fac0fed
X-WR-CALDESC:It’s a vintage holiday celebration at the Lincoln Highway Expe
 rience museum! We’re opening our door for family fun and holiday cheer! Fr
 ee Museum Admission\; Hot Chocolate\, Coffee\, and Cookies in our restored
  1938 Diner\; Unique Holiday Gifts\; Holiday Music by the Westmoreland Sym
 phony Orchestra Quartet (6 – 8 p.m.)\n\nNo reservation required.\n\n\n
X-WR-RELCALID:87dc203d3c4a64bc91100802abea702c
X-WR-TIMEZONE:America/New_York
BEGIN:VTIMEZONE
TZID:America/New_York
BEGIN:STANDARD
TZNAME:EST
DTSTART:20211107T020000
TZOFFSETFROM:-0400
TZOFFSETTO:-0500
RDATE:20221106T020000
END:STANDARD
BEGIN:DAYLIGHT
TZNAME:EDT
DTSTART:20210314T020000
TZOFFSETFROM:-0500
TZOFFSETTO:-0400
RDATE:20220313T020000
RDATE:20230312T020000
END:DAYLIGHT
END:VTIMEZONE
BEGIN:VEVENT
UID:d58f9b80-3a1d-4467-b0cd-a9f7c281a238
DTSTAMP:20260420T093239Z
DESCRIPTION:It’s a vintage holiday celebration at the Lincoln Highway Exper
 ience museum! We’re opening our door for family fun and holiday cheer! Fre
 e Museum Admission\; Hot Chocolate\, Coffee\, and Cookies in our restored 
 1938 Diner\; Unique Holiday Gifts\; Holiday Music by the Westmoreland Symp
 hony Orchestra Quartet (6 – 8 p.m.)\n\nNo reservation required.\n\n\n
DTSTART;TZID=America/New_York:20211208T170000
DTEND;TZID=America/New_York:20211208T200000
LOCATION:3435 State Route 30 E\, Latrobe\, PA 15650 US
SUMMARY:Holiday Open House
END:VEVENT
END:VCALENDAR
