BEGIN:VCALENDAR
VERSION:2.0
PRODID:-//lhhc.org//NONSGML kigkonsult.se iCalcreator 2.30.10//
CALSCALE:GREGORIAN
METHOD:PUBLISH
UID:09602754-0529-46a4-99da-a9332c1340a8
X-WR-CALDESC:A yummy summer dinner with refreshing beverages and fun activi
 ties both inside and outside of our new museum addition. Individual compet
 ition includes: basketball\, fold a pie box\, and the Lincoln Highway Road
  Trip board game. Spirited team competition includes: croquet\, cornhole\,
  Jenga\, and Route 66\; the watered down highway.
X-WR-RELCALID:dd683f5e5f9ba3931bace633db79ade8
X-WR-TIMEZONE:America/New_York
BEGIN:VTIMEZONE
TZID:America/New_York
BEGIN:STANDARD
TZNAME:EST
DTSTART:20181104T020000
TZOFFSETFROM:-0400
TZOFFSETTO:-0500
RDATE:20191103T020000
RDATE:20201101T020000
END:STANDARD
BEGIN:DAYLIGHT
TZNAME:EDT
DTSTART:20190310T020000
TZOFFSETFROM:-0500
TZOFFSETTO:-0400
RDATE:20200308T020000
END:DAYLIGHT
END:VTIMEZONE
BEGIN:VEVENT
UID:381f83ae-f17c-448f-9314-a7253373a5b6
DTSTAMP:20260420T130257Z
DESCRIPTION:A yummy summer dinner with refreshing beverages and fun activit
 ies both inside and outside of our new museum addition. Individual competi
 tion includes: basketball\, fold a pie box\, and the Lincoln Highway Road 
 Trip board game. Spirited team competition includes: croquet\, cornhole\, 
 Jenga\, and Route 66\; the watered down highway.
DTSTART;TZID=America/New_York:20190823T180000
DTEND;TZID=America/New_York:20190823T210000
LOCATION:Lincoln Highway Experience Museum
SUMMARY:Thinkin' Lincoln Classic
END:VEVENT
END:VCALENDAR
